BEGIN:VCALENDAR
VERSION:2.0
PRODID:-//Club Burleigh - ECPv5.2.0//NONSGML v1.0//EN
CALSCALE:GREGORIAN
METHOD:PUBLISH
X-WR-CALNAME:Club Burleigh
X-ORIGINAL-URL:https://clubb.com.au
X-WR-CALDESC:Events for Club Burleigh
BEGIN:VTIMEZONE
TZID:Australia/Brisbane
BEGIN:STANDARD
TZOFFSETFROM:+1000
TZOFFSETTO:+1000
TZNAME:AEST
DTSTART:20210101T000000
END:STANDARD
END:VTIMEZONE
BEGIN:VEVENT
DTSTART;TZID=Australia/Brisbane:20210302T170000
DTEND;TZID=Australia/Brisbane:20210302T200000
DTSTAMP:20210301T135014
CREATED:20210219T024356Z
LAST-MODIFIED:20210219T025248Z
UID:7783-1614704400-1614715200@clubb.com.au
SUMMARY:$15 PIZZAS EVERY TUESDAY
DESCRIPTION:Enjoy any pizza off our menu for only $15 every Tuesday \nPlease see staff for Terms & Conditions
URL:https://clubb.com.au/events/15-pizzas-every-tuesday/2021-03-02/
CATEGORIES:Dining,Weekly Events
ATTACH;FMTTYPE=image/jpeg:https://clubb.com.au/wp-content/uploads/2021/02/Pizza-Night.jpg
END:VEVENT
END:VCALENDAR