BEGIN:VCALENDAR
VERSION:2.0
PRODID:-//Club Burleigh - ECPv5.2.0//NONSGML v1.0//EN
CALSCALE:GREGORIAN
METHOD:PUBLISH
X-WR-CALNAME:Club Burleigh
X-ORIGINAL-URL:https://clubb.com.au
X-WR-CALDESC:Events for Club Burleigh
BEGIN:VTIMEZONE
TZID:Australia/Brisbane
BEGIN:STANDARD
TZOFFSETFROM:+1000
TZOFFSETTO:+1000
TZNAME:AEST
DTSTART:20200101T000000
END:STANDARD
END:VTIMEZONE
BEGIN:VEVENT
DTSTART;TZID=Australia/Brisbane:20200708T173000
DTEND;TZID=Australia/Brisbane:20200708T203000
DTSTAMP:20210301T135538
CREATED:20200701T145001Z
LAST-MODIFIED:20210217T022128Z
UID:3746-1594229400-1594240200@clubb.com.au
SUMMARY:Kids Eat Free
DESCRIPTION:Kids Eat Free Tuesday and Fridays!\n5:30pm to 8:30pm! \nWith any Adult main meal purchase\nTerms and Conditions Apply*
URL:https://clubb.com.au/events/kids-eat-free-2/2020-07-08/
CATEGORIES:Dining,Weekly Events
ATTACH;FMTTYPE=image/jpeg:https://clubb.com.au/wp-content/uploads/2020/07/KIDS-EAT-FREE-WEBSITE-custom-1-scaled.jpeg
END:VEVENT
END:VCALENDAR