BEGIN:VCALENDAR
VERSION:2.0
PRODID:-//Club Burleigh - ECPv5.2.0//NONSGML v1.0//EN
CALSCALE:GREGORIAN
METHOD:PUBLISH
X-WR-CALNAME:Club Burleigh
X-ORIGINAL-URL:https://clubb.com.au
X-WR-CALDESC:Events for Club Burleigh
BEGIN:VTIMEZONE
TZID:Australia/Brisbane
BEGIN:STANDARD
TZOFFSETFROM:+1000
TZOFFSETTO:+1000
TZNAME:AEST
DTSTART:20210101T000000
END:STANDARD
END:VTIMEZONE
BEGIN:VEVENT
DTSTART;TZID=Australia/Brisbane:20210417T190000
DTEND;TZID=Australia/Brisbane:20210417T220000
DTSTAMP:20210301T140347
CREATED:20210215T132518Z
LAST-MODIFIED:20210215T132518Z
UID:6980-1618686000-1618696800@clubb.com.au
SUMMARY:Live Music
DESCRIPTION:Live Music from 7pm until 10pm every Saturday
URL:https://clubb.com.au/events/live-music/2021-04-17/
CATEGORIES:Entertainment,Weekly Events
ATTACH;FMTTYPE=image/jpeg:https://clubb.com.au/wp-content/uploads/2021/02/LIVE-MUSIC-WEbsite-custom-scaled.jpeg
END:VEVENT
END:VCALENDAR