BEGIN:VCALENDAR
VERSION:2.0
PRODID:-//Club Burleigh - ECPv5.2.0//NONSGML v1.0//EN
CALSCALE:GREGORIAN
METHOD:PUBLISH
X-WR-CALNAME:Club Burleigh
X-ORIGINAL-URL:https://clubb.com.au
X-WR-CALDESC:Events for Club Burleigh
BEGIN:VTIMEZONE
TZID:UTC
BEGIN:STANDARD
TZOFFSETFROM:+0000
TZOFFSETTO:+0000
TZNAME:UTC
DTSTART:20210101T000000
END:STANDARD
END:VTIMEZONE
BEGIN:VEVENT
DTSTART;TZID=UTC:20210212T160000
DTEND;TZID=UTC:20210212T200000
DTSTAMP:20210301T125445
CREATED:20210203T154713Z
LAST-MODIFIED:20210203T154713Z
UID:4337-1613145600-1613160000@clubb.com.au
SUMMARY:Rugby League Rivals
DESCRIPTION:
URL:https://clubb.com.au/events/rugby-league-rivals/
CATEGORIES:Sport
ATTACH;FMTTYPE=image/png:https://clubb.com.au/wp-content/uploads/2021/02/Boxing_All_Stars_Fight_Night_Rugby_League_Rivals16x9.png
END:VEVENT
END:VCALENDAR