BEGIN:VCALENDAR
VERSION:2.0
PRODID:-//Club Burleigh - ECPv5.2.0//NONSGML v1.0//EN
CALSCALE:GREGORIAN
METHOD:PUBLISH
X-WR-CALNAME:Club Burleigh
X-ORIGINAL-URL:https://clubb.com.au
X-WR-CALDESC:Events for Club Burleigh
BEGIN:VTIMEZONE
TZID:Australia/Brisbane
BEGIN:STANDARD
TZOFFSETFROM:+1000
TZOFFSETTO:+1000
TZNAME:AEST
DTSTART:20210101T000000
END:STANDARD
END:VTIMEZONE
BEGIN:VEVENT
DTSTART;TZID=Australia/Brisbane:20210217T180000
DTEND;TZID=Australia/Brisbane:20210217T210000
DTSTAMP:20210301T140100
CREATED:20210216T035325Z
LAST-MODIFIED:20210216T035413Z
UID:5842-1613584800-1613595600@clubb.com.au
SUMMARY:WEDNESDAY PARMY NIGHT
DESCRIPTION:
URL:https://clubb.com.au/events/wednesday-parmy-night/2021-02-17/
CATEGORIES:Dining,Weekly Events
ATTACH;FMTTYPE=image/jpeg:https://clubb.com.au/wp-content/uploads/2021/02/Parmy-Night.jpg
END:VEVENT
END:VCALENDAR